BEGIN:VCALENDAR
VERSION:2.0
PRODID:-//Ceemet - ECPv6.15.20//NONSGML v1.0//EN
CALSCALE:GREGORIAN
METHOD:PUBLISH
X-WR-CALNAME:Ceemet
X-ORIGINAL-URL:https://ceemet.org
X-WR-CALDESC:Events for Ceemet
REFRESH-INTERVAL;VALUE=DURATION:PT1H
X-Robots-Tag:noindex
X-PUBLISHED-TTL:PT1H
BEGIN:VTIMEZONE
TZID:Europe/Brussels
BEGIN:DAYLIGHT
TZOFFSETFROM:+0100
TZOFFSETTO:+0200
TZNAME:CEST
DTSTART:20200329T010000
END:DAYLIGHT
BEGIN:STANDARD
TZOFFSETFROM:+0200
TZOFFSETTO:+0100
TZNAME:CET
DTSTART:20201025T010000
END:STANDARD
BEGIN:DAYLIGHT
TZOFFSETFROM:+0100
TZOFFSETTO:+0200
TZNAME:CEST
DTSTART:20210328T010000
END:DAYLIGHT
BEGIN:STANDARD
TZOFFSETFROM:+0200
TZOFFSETTO:+0100
TZNAME:CET
DTSTART:20211031T010000
END:STANDARD
BEGIN:DAYLIGHT
TZOFFSETFROM:+0100
TZOFFSETTO:+0200
TZNAME:CEST
DTSTART:20220327T010000
END:DAYLIGHT
BEGIN:STANDARD
TZOFFSETFROM:+0200
TZOFFSETTO:+0100
TZNAME:CET
DTSTART:20221030T010000
END:STANDARD
END:VTIMEZONE
BEGIN:VEVENT
DTSTART;VALUE=DATE:20211207
DTEND;VALUE=DATE:20211208
DTSTAMP:20260420T140331
CREATED:20211206T230000Z
LAST-MODIFIED:20231220T075644Z
UID:20996-1638835200-1638921599@ceemet.org
SUMMARY:Coalition for a Just Transition launch event
DESCRIPTION:14:00 – 15:00\nVirtual \nThe online event gathers the members of the Coalition and MEPs from the EMPL (Employment and Social Affairs) \, ITRE (Industry\, Research and Energy) and ENVI (Environment\, Public Health and Food Safety) Committees. The Coalition will take this opportunity to present itself as well as its key messages and requests. \nShould you want to attend the meeting please register on the following link: https://us02web.zoom.us/meeting/register/tZ0scO2vrjkuGtQBhLfY9Y46ZckkCEO4ZUs6 \nAdditional information on the Coalition: \nAs a European social partner\, Ceemet is a member of the Coalition for Just Transition for the Automotive Sector. This Coalition calls for a number of measures to be put in place in order to mitigate the effects of the “Fit for 55 proposed regulatory framework” on employment and skills on the MET industries\, in particular on the automotive sector. Other industry associations (CLEPA\, ACEA etc) as well as industriAll Europe are also members of this coalition. \nThe Coalition calls for a Just Transition Framework for the mobility ecosystem to be built\, amongst others on: \n\nAdequate resources\nPolicy support and exchanges of best practices\nTransition planning and social dialogue\nMapping of employment impacts at company\, regional and national level.
URL:https://ceemet.org/event/coalition-for-a-just-transition-launch-event/
CATEGORIES:Stakeholder meeting_event
END:VEVENT
END:VCALENDAR