BEGIN:VCALENDAR
VERSION:2.0
PRODID:-//Ceemet - ECPv6.15.20//NONSGML v1.0//EN
CALSCALE:GREGORIAN
METHOD:PUBLISH
X-WR-CALNAME:Ceemet
X-ORIGINAL-URL:https://ceemet.org
X-WR-CALDESC:Events for Ceemet
REFRESH-INTERVAL;VALUE=DURATION:PT1H
X-Robots-Tag:noindex
X-PUBLISHED-TTL:PT1H
BEGIN:VTIMEZONE
TZID:Europe/Brussels
BEGIN:DAYLIGHT
TZOFFSETFROM:+0100
TZOFFSETTO:+0200
TZNAME:CEST
DTSTART:20210328T010000
END:DAYLIGHT
BEGIN:STANDARD
TZOFFSETFROM:+0200
TZOFFSETTO:+0100
TZNAME:CET
DTSTART:20211031T010000
END:STANDARD
BEGIN:DAYLIGHT
TZOFFSETFROM:+0100
TZOFFSETTO:+0200
TZNAME:CEST
DTSTART:20220327T010000
END:DAYLIGHT
BEGIN:STANDARD
TZOFFSETFROM:+0200
TZOFFSETTO:+0100
TZNAME:CET
DTSTART:20221030T010000
END:STANDARD
BEGIN:DAYLIGHT
TZOFFSETFROM:+0100
TZOFFSETTO:+0200
TZNAME:CEST
DTSTART:20230326T010000
END:DAYLIGHT
BEGIN:STANDARD
TZOFFSETFROM:+0200
TZOFFSETTO:+0100
TZNAME:CET
DTSTART:20231029T010000
END:STANDARD
END:VTIMEZONE
BEGIN:VEVENT
DTSTART;VALUE=DATE:20220304
DTEND;VALUE=DATE:20220305
DTSTAMP:20260425T002804
CREATED:20220303T230000Z
LAST-MODIFIED:20231220T075636Z
UID:20998-1646352000-1646438399@ceemet.org
SUMMARY:CoFEU: Presentation of Ceemet's contribution
DESCRIPTION:13:00 – 15:00\nParis & remote \nThe Conference on the Future of Europe (CoFEU) is a process launched by the European Commission and Parliament to exchange and find out what according to them should be Europe’s priorities. \nTen topics have been chosen on which the EU is expecting contributions from all. Among these ten\, three relate to Ceemet’s core activities: “a stronger economy\, social justice & jobs“\, “digital transformation“ and “Education\, culture\, youth & sport“. \nCivil organisations and trade unions have already started to submit their views. With this publication\, Ceemet is doing so now on behalf of the employers of the MET sector.
URL:https://ceemet.org/event/cofeu-presentation-of-ceemets-contribution/
CATEGORIES:Stakeholder meeting_event
END:VEVENT
END:VCALENDAR