BEGIN:VCALENDAR
VERSION:2.0
PRODID:-//Ceemet - ECPv6.15.20//NONSGML v1.0//EN
CALSCALE:GREGORIAN
METHOD:PUBLISH
X-WR-CALNAME:Ceemet
X-ORIGINAL-URL:https://ceemet.org
X-WR-CALDESC:Events for Ceemet
REFRESH-INTERVAL;VALUE=DURATION:PT1H
X-Robots-Tag:noindex
X-PUBLISHED-TTL:PT1H
BEGIN:VTIMEZONE
TZID:Europe/Brussels
BEGIN:DAYLIGHT
TZOFFSETFROM:+0100
TZOFFSETTO:+0200
TZNAME:CEST
DTSTART:20190331T010000
END:DAYLIGHT
BEGIN:STANDARD
TZOFFSETFROM:+0200
TZOFFSETTO:+0100
TZNAME:CET
DTSTART:20191027T010000
END:STANDARD
BEGIN:DAYLIGHT
TZOFFSETFROM:+0100
TZOFFSETTO:+0200
TZNAME:CEST
DTSTART:20200329T010000
END:DAYLIGHT
BEGIN:STANDARD
TZOFFSETFROM:+0200
TZOFFSETTO:+0100
TZNAME:CET
DTSTART:20201025T010000
END:STANDARD
BEGIN:DAYLIGHT
TZOFFSETFROM:+0100
TZOFFSETTO:+0200
TZNAME:CEST
DTSTART:20210328T010000
END:DAYLIGHT
BEGIN:STANDARD
TZOFFSETFROM:+0200
TZOFFSETTO:+0100
TZNAME:CET
DTSTART:20211031T010000
END:STANDARD
END:VTIMEZONE
BEGIN:VEVENT
DTSTART;VALUE=DATE:20201109
DTEND;VALUE=DATE:20201110
DTSTAMP:20260424T125717
CREATED:20201108T230000Z
LAST-MODIFIED:20231220T080011Z
UID:20982-1604880000-1604966399@ceemet.org
SUMMARY:EEN: Fair minimum wages
DESCRIPTION:14:00 – 15:30 \nMeeting with the European Employers Network following the presentation of the Commission proposal on ‘Fair minimum wages’ of 28 October 2020.
URL:https://ceemet.org/event/een-fair-minimum-wages/
CATEGORIES:Stakeholder meeting_event
END:VEVENT
END:VCALENDAR