BEGIN:VCALENDAR
VERSION:2.0
PRODID:-//Ceemet - ECPv6.15.20//NONSGML v1.0//EN
CALSCALE:GREGORIAN
METHOD:PUBLISH
X-WR-CALNAME:Ceemet
X-ORIGINAL-URL:https://ceemet.org
X-WR-CALDESC:Events for Ceemet
REFRESH-INTERVAL;VALUE=DURATION:PT1H
X-Robots-Tag:noindex
X-PUBLISHED-TTL:PT1H
BEGIN:VTIMEZONE
TZID:Europe/Brussels
BEGIN:DAYLIGHT
TZOFFSETFROM:+0100
TZOFFSETTO:+0200
TZNAME:CEST
DTSTART:20190331T010000
END:DAYLIGHT
BEGIN:STANDARD
TZOFFSETFROM:+0200
TZOFFSETTO:+0100
TZNAME:CET
DTSTART:20191027T010000
END:STANDARD
BEGIN:DAYLIGHT
TZOFFSETFROM:+0100
TZOFFSETTO:+0200
TZNAME:CEST
DTSTART:20200329T010000
END:DAYLIGHT
BEGIN:STANDARD
TZOFFSETFROM:+0200
TZOFFSETTO:+0100
TZNAME:CET
DTSTART:20201025T010000
END:STANDARD
BEGIN:DAYLIGHT
TZOFFSETFROM:+0100
TZOFFSETTO:+0200
TZNAME:CEST
DTSTART:20210328T010000
END:DAYLIGHT
BEGIN:STANDARD
TZOFFSETFROM:+0200
TZOFFSETTO:+0100
TZNAME:CET
DTSTART:20211031T010000
END:STANDARD
END:VTIMEZONE
BEGIN:VEVENT
DTSTART;VALUE=DATE:20201028
DTEND;VALUE=DATE:20201029
DTSTAMP:20260424T041936
CREATED:20201027T230000Z
LAST-MODIFIED:20231220T080031Z
UID:20897-1603843200-1603929599@ceemet.org
SUMMARY:EP EMPL hearing of new ELA Executive Director
DESCRIPTION:11:30 – 12:30 \nAt its meeting on 28 October 2020\, members of the European Parliament EMPL Committee will hold the hearing of the candidate for the post of the Executive Director of the European Labour Authority (ELA)\, Deputy Permanent Representative of Romania Cosmin Boiangiu. \nClick here to watch the livestream.
URL:https://ceemet.org/event/ep-empl-hearing-of-new-ela-executive-director/
CATEGORIES:Committee meeting
END:VEVENT
END:VCALENDAR