BEGIN:VCALENDAR
VERSION:2.0
PRODID:-//Ceemet - ECPv6.15.20//NONSGML v1.0//EN
CALSCALE:GREGORIAN
METHOD:PUBLISH
X-WR-CALNAME:Ceemet
X-ORIGINAL-URL:https://ceemet.org
X-WR-CALDESC:Events for Ceemet
REFRESH-INTERVAL;VALUE=DURATION:PT1H
X-Robots-Tag:noindex
X-PUBLISHED-TTL:PT1H
BEGIN:VTIMEZONE
TZID:Europe/Brussels
BEGIN:DAYLIGHT
TZOFFSETFROM:+0100
TZOFFSETTO:+0200
TZNAME:CEST
DTSTART:20200329T010000
END:DAYLIGHT
BEGIN:STANDARD
TZOFFSETFROM:+0200
TZOFFSETTO:+0100
TZNAME:CET
DTSTART:20201025T010000
END:STANDARD
BEGIN:DAYLIGHT
TZOFFSETFROM:+0100
TZOFFSETTO:+0200
TZNAME:CEST
DTSTART:20210328T010000
END:DAYLIGHT
BEGIN:STANDARD
TZOFFSETFROM:+0200
TZOFFSETTO:+0100
TZNAME:CET
DTSTART:20211031T010000
END:STANDARD
BEGIN:DAYLIGHT
TZOFFSETFROM:+0100
TZOFFSETTO:+0200
TZNAME:CEST
DTSTART:20220327T010000
END:DAYLIGHT
BEGIN:STANDARD
TZOFFSETFROM:+0200
TZOFFSETTO:+0100
TZNAME:CET
DTSTART:20221030T010000
END:STANDARD
END:VTIMEZONE
BEGIN:VEVENT
DTSTART;VALUE=DATE:20210309
DTEND;VALUE=DATE:20210310
DTSTAMP:20260424T065835
CREATED:20210308T230000Z
LAST-MODIFIED:20231220T075902Z
UID:20961-1615248000-1615334399@ceemet.org
SUMMARY:High-Level Conference on the future of work - "Remote work: challenges\, risks and opportunities"
DESCRIPTION:10:00 – 17:00\nVideo conference \nCeemet President Rainer Ludwig\, speaking on behalf of industry
URL:https://ceemet.org/event/high-level-conference-on-the-future-of-work-remote-work-challenges-risks-and-opportunities/
CATEGORIES:Council meeting_event
END:VEVENT
END:VCALENDAR