BEGIN:VCALENDAR
VERSION:2.0
PRODID:-//Ceemet - ECPv6.15.20//NONSGML v1.0//EN
CALSCALE:GREGORIAN
METHOD:PUBLISH
X-WR-CALNAME:Ceemet
X-ORIGINAL-URL:https://ceemet.org
X-WR-CALDESC:Events for Ceemet
REFRESH-INTERVAL;VALUE=DURATION:PT1H
X-Robots-Tag:noindex
X-PUBLISHED-TTL:PT1H
BEGIN:VTIMEZONE
TZID:Europe/Brussels
BEGIN:DAYLIGHT
TZOFFSETFROM:+0100
TZOFFSETTO:+0200
TZNAME:CEST
DTSTART:20240331T010000
END:DAYLIGHT
BEGIN:STANDARD
TZOFFSETFROM:+0200
TZOFFSETTO:+0100
TZNAME:CET
DTSTART:20241027T010000
END:STANDARD
BEGIN:DAYLIGHT
TZOFFSETFROM:+0100
TZOFFSETTO:+0200
TZNAME:CEST
DTSTART:20250330T010000
END:DAYLIGHT
BEGIN:STANDARD
TZOFFSETFROM:+0200
TZOFFSETTO:+0100
TZNAME:CET
DTSTART:20251026T010000
END:STANDARD
BEGIN:DAYLIGHT
TZOFFSETFROM:+0100
TZOFFSETTO:+0200
TZNAME:CEST
DTSTART:20260329T010000
END:DAYLIGHT
BEGIN:STANDARD
TZOFFSETFROM:+0200
TZOFFSETTO:+0100
TZNAME:CET
DTSTART:20261025T010000
END:STANDARD
END:VTIMEZONE
BEGIN:VEVENT
DTSTART;TZID=Europe/Brussels:20250619T090000
DTEND;TZID=Europe/Brussels:20250619T133000
DTSTAMP:20260424T214836
CREATED:20250224T104025Z
LAST-MODIFIED:20250618T144352Z
UID:25721-1750323600-1750339800@ceemet.org
SUMMARY:IER Committee meeting
DESCRIPTION:Working documents \n\nNational report Belgium\nNational report Austria\nNational Report Denmark\nNational Report Finland \nNational Report France\nNational Report Germany\nNational report Italy\nNational Report Norway \nNational Report Spain\nNational Report Sweden & Attachment\nQuality jobs roadmap – Ceemet draft paper\nBackground note – Quality Jobs Roadmap\nAction plan- IER Committee meeting\nCommented agenda IER Committee meeting of 19 June 2025
URL:https://ceemet.org/event/ier-committee-meeting-2/
LOCATION:Spaces – MIRO\, Rue Belliard\, 40\, Brussels\, 1040\, Belgium
END:VEVENT
END:VCALENDAR