BEGIN:VCALENDAR
VERSION:2.0
PRODID:-//Ceemet - ECPv6.15.20//NONSGML v1.0//EN
CALSCALE:GREGORIAN
METHOD:PUBLISH
X-WR-CALNAME:Ceemet
X-ORIGINAL-URL:https://ceemet.org
X-WR-CALDESC:Events for Ceemet
REFRESH-INTERVAL;VALUE=DURATION:PT1H
X-Robots-Tag:noindex
X-PUBLISHED-TTL:PT1H
BEGIN:VTIMEZONE
TZID:Europe/Brussels
BEGIN:DAYLIGHT
TZOFFSETFROM:+0100
TZOFFSETTO:+0200
TZNAME:CEST
DTSTART:20190331T010000
END:DAYLIGHT
BEGIN:STANDARD
TZOFFSETFROM:+0200
TZOFFSETTO:+0100
TZNAME:CET
DTSTART:20191027T010000
END:STANDARD
BEGIN:DAYLIGHT
TZOFFSETFROM:+0100
TZOFFSETTO:+0200
TZNAME:CEST
DTSTART:20200329T010000
END:DAYLIGHT
BEGIN:STANDARD
TZOFFSETFROM:+0200
TZOFFSETTO:+0100
TZNAME:CET
DTSTART:20201025T010000
END:STANDARD
BEGIN:DAYLIGHT
TZOFFSETFROM:+0100
TZOFFSETTO:+0200
TZNAME:CEST
DTSTART:20210328T010000
END:DAYLIGHT
BEGIN:STANDARD
TZOFFSETFROM:+0200
TZOFFSETTO:+0100
TZNAME:CET
DTSTART:20211031T010000
END:STANDARD
END:VTIMEZONE
BEGIN:VEVENT
DTSTART;VALUE=DATE:20201123
DTEND;VALUE=DATE:20201124
DTSTAMP:20260424T110418
CREATED:20201122T230000Z
LAST-MODIFIED:20231220T080000Z
UID:20896-1606089600-1606175999@ceemet.org
SUMMARY:IER meeting
DESCRIPTION:14:00 – 16:30 \nDear Members\, \nDear participants to the IER Committee meeting of 23 November 2020 \nFor the IER Committee meeting of 23 November 2020\, please find here: \n\nA commented agenda\nA list of background documents\nThe list of participants to the meeting\nNational Reports\n\nPlease use the commented agenda as a basis to prepare and give your input during the meeting in order to have an added-value content discussion. \nPractical details: \n\nThe meeting will be held on TEAMS from 14.00-16.30\nPlease find attached the TEAMS invitation.\n\nShould you have further questions do not hesitate to get back to Isabel. \nLooking forward to seeing you online. \nWith kind regards\, \nJarkko and Isabel
URL:https://ceemet.org/event/ier-meeting/
CATEGORIES:Committee meeting
END:VEVENT
END:VCALENDAR