BEGIN:VCALENDAR
VERSION:2.0
PRODID:-//Ceemet - ECPv6.15.20//NONSGML v1.0//EN
CALSCALE:GREGORIAN
METHOD:PUBLISH
X-WR-CALNAME:Ceemet
X-ORIGINAL-URL:https://ceemet.org
X-WR-CALDESC:Events for Ceemet
REFRESH-INTERVAL;VALUE=DURATION:PT1H
X-Robots-Tag:noindex
X-PUBLISHED-TTL:PT1H
BEGIN:VTIMEZONE
TZID:Europe/Brussels
BEGIN:DAYLIGHT
TZOFFSETFROM:+0100
TZOFFSETTO:+0200
TZNAME:CEST
DTSTART:20190331T010000
END:DAYLIGHT
BEGIN:STANDARD
TZOFFSETFROM:+0200
TZOFFSETTO:+0100
TZNAME:CET
DTSTART:20191027T010000
END:STANDARD
BEGIN:DAYLIGHT
TZOFFSETFROM:+0100
TZOFFSETTO:+0200
TZNAME:CEST
DTSTART:20200329T010000
END:DAYLIGHT
BEGIN:STANDARD
TZOFFSETFROM:+0200
TZOFFSETTO:+0100
TZNAME:CET
DTSTART:20201025T010000
END:STANDARD
BEGIN:DAYLIGHT
TZOFFSETFROM:+0100
TZOFFSETTO:+0200
TZNAME:CEST
DTSTART:20210328T010000
END:DAYLIGHT
BEGIN:STANDARD
TZOFFSETFROM:+0200
TZOFFSETTO:+0100
TZNAME:CET
DTSTART:20211031T010000
END:STANDARD
END:VTIMEZONE
BEGIN:VEVENT
DTSTART;VALUE=DATE:20201110
DTEND;VALUE=DATE:20201111
DTSTAMP:20260422T170338
CREATED:20201109T230000Z
LAST-MODIFIED:20231220T080004Z
UID:20939-1604966400-1605052799@ceemet.org
SUMMARY:Launch event of the Pact for Skills
DESCRIPTION:18:00 – 19:15 \nThe Pact for Skills\, one of the actions under the European Skills Agenda\, aims to mobilise and encourage all relevant stakeholders to take concrete actions for the upskilling and reskilling of people of working age\, and\, when relevant\, cooperate through partnerships. \nOn 10 November European Commission Vice-President and European Commissioner for Protecting our European Way of Life\, Margaritis Shinas; Nicolas Schmit\, Commissioner for Jobs and Social Rights; and Thierry Breton\, Commissioner for the Internal Market\, will take part in the online launch event of the Pact. \nThere\, with high-level representatives of industry\, social partners and other relevant stakeholders\, they will discuss the importance of upskilling and reskilling for Europe and all people of working age. \nThe event is organised as part of the European Vocational Skills Week 2020 and is open to anyone who is interested in the Pact for Skills and ensuring that all people of working age have access to quality upskilling and reskilling.
URL:https://ceemet.org/event/launch-event-of-the-pact-for-skills/
CATEGORIES:Commission meeting_event
END:VEVENT
END:VCALENDAR