BEGIN:VCALENDAR
VERSION:2.0
PRODID:-//Ceemet - ECPv6.15.20//NONSGML v1.0//EN
CALSCALE:GREGORIAN
METHOD:PUBLISH
X-WR-CALNAME:Ceemet
X-ORIGINAL-URL:https://ceemet.org
X-WR-CALDESC:Events for Ceemet
REFRESH-INTERVAL;VALUE=DURATION:PT1H
X-Robots-Tag:noindex
X-PUBLISHED-TTL:PT1H
BEGIN:VTIMEZONE
TZID:Europe/Brussels
BEGIN:DAYLIGHT
TZOFFSETFROM:+0100
TZOFFSETTO:+0200
TZNAME:CEST
DTSTART:20200329T010000
END:DAYLIGHT
BEGIN:STANDARD
TZOFFSETFROM:+0200
TZOFFSETTO:+0100
TZNAME:CET
DTSTART:20201025T010000
END:STANDARD
BEGIN:DAYLIGHT
TZOFFSETFROM:+0100
TZOFFSETTO:+0200
TZNAME:CEST
DTSTART:20210328T010000
END:DAYLIGHT
BEGIN:STANDARD
TZOFFSETFROM:+0200
TZOFFSETTO:+0100
TZNAME:CET
DTSTART:20211031T010000
END:STANDARD
BEGIN:DAYLIGHT
TZOFFSETFROM:+0100
TZOFFSETTO:+0200
TZNAME:CEST
DTSTART:20220327T010000
END:DAYLIGHT
BEGIN:STANDARD
TZOFFSETFROM:+0200
TZOFFSETTO:+0100
TZNAME:CET
DTSTART:20221030T010000
END:STANDARD
END:VTIMEZONE
BEGIN:VEVENT
DTSTART;VALUE=DATE:20210121
DTEND;VALUE=DATE:20210122
DTSTAMP:20260425T002754
CREATED:20210120T230000Z
LAST-MODIFIED:20231220T075924Z
UID:20871-1611187200-1611273599@ceemet.org
SUMMARY:LobbyNet & EU - UK Future Relationship meeting
DESCRIPTION:10:00 – 12:30 \nDear members\, \nPlease find attached the Working Papers for the next LobbyNet meeting. The meeting will take place via Microsoft Teams on Thursday 21 January 2021 from 10:00 to 11:30. A separate invitation link will be sent to you to connect to the meeting. \nThe following documents are attached: \n\nThe agenda;\nThe list of participants;\nMinutes from our previous meeting.\n\nAn EU-UK Future Relationship Working Group meeting will be organised after the LobbyNet meeting from 11:30 to 12:30.
URL:https://ceemet.org/event/lobbynet-eu-uk-future-relationship-meeting-2/
CATEGORIES:Working Group meeting
END:VEVENT
END:VCALENDAR