BEGIN:VCALENDAR
VERSION:2.0
PRODID:-//Ceemet - ECPv6.15.20//NONSGML v1.0//EN
CALSCALE:GREGORIAN
METHOD:PUBLISH
X-WR-CALNAME:Ceemet
X-ORIGINAL-URL:https://ceemet.org
X-WR-CALDESC:Events for Ceemet
REFRESH-INTERVAL;VALUE=DURATION:PT1H
X-Robots-Tag:noindex
X-PUBLISHED-TTL:PT1H
BEGIN:VTIMEZONE
TZID:Europe/Brussels
BEGIN:DAYLIGHT
TZOFFSETFROM:+0100
TZOFFSETTO:+0200
TZNAME:CEST
DTSTART:20200329T010000
END:DAYLIGHT
BEGIN:STANDARD
TZOFFSETFROM:+0200
TZOFFSETTO:+0100
TZNAME:CET
DTSTART:20201025T010000
END:STANDARD
BEGIN:DAYLIGHT
TZOFFSETFROM:+0100
TZOFFSETTO:+0200
TZNAME:CEST
DTSTART:20210328T010000
END:DAYLIGHT
BEGIN:STANDARD
TZOFFSETFROM:+0200
TZOFFSETTO:+0100
TZNAME:CET
DTSTART:20211031T010000
END:STANDARD
BEGIN:DAYLIGHT
TZOFFSETFROM:+0100
TZOFFSETTO:+0200
TZNAME:CEST
DTSTART:20220327T010000
END:DAYLIGHT
BEGIN:STANDARD
TZOFFSETFROM:+0200
TZOFFSETTO:+0100
TZNAME:CET
DTSTART:20221030T010000
END:STANDARD
END:VTIMEZONE
BEGIN:VEVENT
DTSTART;VALUE=DATE:20211108
DTEND;VALUE=DATE:20211109
DTSTAMP:20260424T023558
CREATED:20211107T230000Z
LAST-MODIFIED:20231220T075650Z
UID:20969-1636329600-1636415999@ceemet.org
SUMMARY:Meeting Minister of Labour & Social Affairs Janez Cigler Kralj of the Slovenian EU Presidency
DESCRIPTION:10:00\nVirtual \nCeemet President Rainer Ludwig & Director General Delphine Rudelli will meet the Minister. The agenda for the meeting is set as following: \n\nIntroduction by the Minister\nPresentation of Ceemet & main challenges\nProposal on Adequate minimum wages\nProposal on Pay transparency
URL:https://ceemet.org/event/meeting-minister-of-labour-social-affairs-janez-cigler-kralj-of-the-slovenian-eu-presidency/
CATEGORIES:Council meeting_event
END:VEVENT
END:VCALENDAR