BEGIN:VCALENDAR
VERSION:2.0
PRODID:-//Ceemet - ECPv6.15.20//NONSGML v1.0//EN
CALSCALE:GREGORIAN
METHOD:PUBLISH
X-WR-CALNAME:Ceemet
X-ORIGINAL-URL:https://ceemet.org
X-WR-CALDESC:Events for Ceemet
REFRESH-INTERVAL;VALUE=DURATION:PT1H
X-Robots-Tag:noindex
X-PUBLISHED-TTL:PT1H
BEGIN:VTIMEZONE
TZID:Europe/Brussels
BEGIN:DAYLIGHT
TZOFFSETFROM:+0100
TZOFFSETTO:+0200
TZNAME:CEST
DTSTART:20190331T010000
END:DAYLIGHT
BEGIN:STANDARD
TZOFFSETFROM:+0200
TZOFFSETTO:+0100
TZNAME:CET
DTSTART:20191027T010000
END:STANDARD
BEGIN:DAYLIGHT
TZOFFSETFROM:+0100
TZOFFSETTO:+0200
TZNAME:CEST
DTSTART:20200329T010000
END:DAYLIGHT
BEGIN:STANDARD
TZOFFSETFROM:+0200
TZOFFSETTO:+0100
TZNAME:CET
DTSTART:20201025T010000
END:STANDARD
BEGIN:DAYLIGHT
TZOFFSETFROM:+0100
TZOFFSETTO:+0200
TZNAME:CEST
DTSTART:20210328T010000
END:DAYLIGHT
BEGIN:STANDARD
TZOFFSETFROM:+0200
TZOFFSETTO:+0100
TZNAME:CET
DTSTART:20211031T010000
END:STANDARD
END:VTIMEZONE
BEGIN:VEVENT
DTSTART;VALUE=DATE:20201127
DTEND;VALUE=DATE:20201128
DTSTAMP:20260425T160744
CREATED:20201126T230000Z
LAST-MODIFIED:20231220T075938Z
UID:20942-1606435200-1606521599@ceemet.org
SUMMARY:Meeting Special Advisor Andrea Nahles
DESCRIPTION:09:00 – 10:00 \nVideo call meeting of Delphine Rudelli and Isabel Sobrino Maté with European Commissioner Schmit’s special advisor on social dialogue\, Andrea Nahles. \nAbout Mrs Nahles: \nBorn 20 June 1970\, the German politician served as Leader of the Social Democratic Party (SPD – S&D affiliated) from April 2018 until June 2019 and the leader of the SPD in the Bundestag (German national parliament) from September 2017 until June 2019. She served as a Federal Minister of Labour and Social Affairs from 2013 to 2017. During that period she met and worked together with her Luxembourgish counterpart Socialist Labour and Social Affairs Minister Nicolas Schmit. \nSince August 2020\, Nahles serves as President of the Federal Posts and Telecommunications Agency. One month earlier Nicolas Schmit\, now Commissioner for Jobs and Social Rights\, announced her appointed as his Special Advisor. Her role is to help strengthen the social dialogue in Europe\, as well as the role of the social partners.
URL:https://ceemet.org/event/meeting-special-advisor-andrea-nahles/
CATEGORIES:Commission meeting_event
END:VEVENT
END:VCALENDAR