BEGIN:VCALENDAR
VERSION:2.0
PRODID:-//Ceemet - ECPv6.15.20//NONSGML v1.0//EN
CALSCALE:GREGORIAN
METHOD:PUBLISH
X-WR-CALNAME:Ceemet
X-ORIGINAL-URL:https://ceemet.org
X-WR-CALDESC:Events for Ceemet
REFRESH-INTERVAL;VALUE=DURATION:PT1H
X-Robots-Tag:noindex
X-PUBLISHED-TTL:PT1H
BEGIN:VTIMEZONE
TZID:Europe/Brussels
BEGIN:DAYLIGHT
TZOFFSETFROM:+0100
TZOFFSETTO:+0200
TZNAME:CEST
DTSTART:20200329T010000
END:DAYLIGHT
BEGIN:STANDARD
TZOFFSETFROM:+0200
TZOFFSETTO:+0100
TZNAME:CET
DTSTART:20201025T010000
END:STANDARD
BEGIN:DAYLIGHT
TZOFFSETFROM:+0100
TZOFFSETTO:+0200
TZNAME:CEST
DTSTART:20210328T010000
END:DAYLIGHT
BEGIN:STANDARD
TZOFFSETFROM:+0200
TZOFFSETTO:+0100
TZNAME:CET
DTSTART:20211031T010000
END:STANDARD
BEGIN:DAYLIGHT
TZOFFSETFROM:+0100
TZOFFSETTO:+0200
TZNAME:CEST
DTSTART:20220327T010000
END:DAYLIGHT
BEGIN:STANDARD
TZOFFSETFROM:+0200
TZOFFSETTO:+0100
TZNAME:CET
DTSTART:20221030T010000
END:STANDARD
END:VTIMEZONE
BEGIN:VEVENT
DTSTART;VALUE=DATE:20211014
DTEND;VALUE=DATE:20211015
DTSTAMP:20260424T010551
CREATED:20211013T220000Z
LAST-MODIFIED:20231220T075706Z
UID:20994-1634169600-1634255999@ceemet.org
SUMMARY:On the Agenda: Should there be a minimum wage?
DESCRIPTION:14:00 – 15:00\nZOOM \nCeemet has been invited on behalf of the European Liberal Forum\, the official think tank and political foundation of the European Liberal Party\, ALDE . \nDelphine Rudelli will speak during 15th edition of On the Agenda webinar on the European Minimum Wage. She will discuss with MEP Monica Semedo from the Renew Europe Group and ETUC Deputy Secretary General Esther Lynch whether or not a European Minimum Wage should arise across the Member States and if so how to get there. \nTo register for this ZOOM webinar click here
URL:https://ceemet.org/event/on-the-agenda-should-there-be-a-minimum-wage/
CATEGORIES:Stakeholder meeting_event
END:VEVENT
END:VCALENDAR