BEGIN:VCALENDAR
VERSION:2.0
PRODID:-//Ceemet - ECPv6.15.20//NONSGML v1.0//EN
CALSCALE:GREGORIAN
METHOD:PUBLISH
X-WR-CALNAME:Ceemet
X-ORIGINAL-URL:https://ceemet.org
X-WR-CALDESC:Events for Ceemet
REFRESH-INTERVAL;VALUE=DURATION:PT1H
X-Robots-Tag:noindex
X-PUBLISHED-TTL:PT1H
BEGIN:VTIMEZONE
TZID:Europe/Brussels
BEGIN:DAYLIGHT
TZOFFSETFROM:+0100
TZOFFSETTO:+0200
TZNAME:CEST
DTSTART:20190331T010000
END:DAYLIGHT
BEGIN:STANDARD
TZOFFSETFROM:+0200
TZOFFSETTO:+0100
TZNAME:CET
DTSTART:20191027T010000
END:STANDARD
BEGIN:DAYLIGHT
TZOFFSETFROM:+0100
TZOFFSETTO:+0200
TZNAME:CEST
DTSTART:20200329T010000
END:DAYLIGHT
BEGIN:STANDARD
TZOFFSETFROM:+0200
TZOFFSETTO:+0100
TZNAME:CET
DTSTART:20201025T010000
END:STANDARD
BEGIN:DAYLIGHT
TZOFFSETFROM:+0100
TZOFFSETTO:+0200
TZNAME:CEST
DTSTART:20210328T010000
END:DAYLIGHT
BEGIN:STANDARD
TZOFFSETFROM:+0200
TZOFFSETTO:+0100
TZNAME:CET
DTSTART:20211031T010000
END:STANDARD
END:VTIMEZONE
BEGIN:VEVENT
DTSTART;VALUE=DATE:20201013
DTEND;VALUE=DATE:20201015
DTSTAMP:20260425T230933
CREATED:20201012T220000Z
LAST-MODIFIED:20231220T080036Z
UID:21000-1602547200-1602719999@ceemet.org
SUMMARY:Portugese Labour Minister in Brussels
DESCRIPTION:Cancelled: quarantine after contact with COVID-19 patient \nA delegation led by Ceemet President Diego Andreis and Ceemet’s Chair of the Board Oliver Zander met -virtually- with the Portuguese Secretary of State for Labour Miguel Cabrita\, standing in for Minister Ana Mendes Godinho\, on 23 September. \n-> https://www.ceemet.org/news/preparing-portuguese-presidency-european
URL:https://ceemet.org/event/portugese-labour-minister-in-brussels/
CATEGORIES:Other
END:VEVENT
END:VCALENDAR