BEGIN:VCALENDAR
VERSION:2.0
PRODID:-//Ceemet - ECPv6.15.20//NONSGML v1.0//EN
CALSCALE:GREGORIAN
METHOD:PUBLISH
X-WR-CALNAME:Ceemet
X-ORIGINAL-URL:https://ceemet.org
X-WR-CALDESC:Events for Ceemet
REFRESH-INTERVAL;VALUE=DURATION:PT1H
X-Robots-Tag:noindex
X-PUBLISHED-TTL:PT1H
BEGIN:VTIMEZONE
TZID:Europe/Brussels
BEGIN:DAYLIGHT
TZOFFSETFROM:+0100
TZOFFSETTO:+0200
TZNAME:CEST
DTSTART:20190331T010000
END:DAYLIGHT
BEGIN:STANDARD
TZOFFSETFROM:+0200
TZOFFSETTO:+0100
TZNAME:CET
DTSTART:20191027T010000
END:STANDARD
BEGIN:DAYLIGHT
TZOFFSETFROM:+0100
TZOFFSETTO:+0200
TZNAME:CEST
DTSTART:20200329T010000
END:DAYLIGHT
BEGIN:STANDARD
TZOFFSETFROM:+0200
TZOFFSETTO:+0100
TZNAME:CET
DTSTART:20201025T010000
END:STANDARD
BEGIN:DAYLIGHT
TZOFFSETFROM:+0100
TZOFFSETTO:+0200
TZNAME:CEST
DTSTART:20210328T010000
END:DAYLIGHT
BEGIN:STANDARD
TZOFFSETFROM:+0200
TZOFFSETTO:+0100
TZNAME:CET
DTSTART:20211031T010000
END:STANDARD
END:VTIMEZONE
BEGIN:VEVENT
DTSTART;VALUE=DATE:20201016
DTEND;VALUE=DATE:20201017
DTSTAMP:20260424T034326
CREATED:20201015T220000Z
LAST-MODIFIED:20231220T080034Z
UID:20979-1602806400-1602892799@ceemet.org
SUMMARY:Social Security Coordination: The A-Z of A1 webinar
DESCRIPTION:13:00 – 15:00\nTechnical seminar \nThe discussion on the revision of the coordination of social security systems has been ongoing for years and has become ever more complex. \nThe reality of COVID-19 these recent months has shown the importance of a smooth mobility of workers. Companies\, employees and administrations need clear rules that are applicable for mobile workers and provide legal certainty. \nWith the restart of the Trilogue negotiations on the revision of coordination of social security systems\, Ceemet- European Tech and Industry Employers and LMIA- the Labour Mobility Initiative Association are co-organising an online seminar that offers an opportunity for an open discussion between legislators and practitioners on this important issue. \nThe debate with technical experts and stakeholders from European institutions will focus on topics related to provisions on applicable legislation. \nFind out why the definition of the registered office matters\, how to identify letter-box companies\, why business trips need to be exempted and get the A to Z on A1 forms! \nRegister to join the discussion and get some best practices on how every day digital solutions can become the answer to calculate social security contributions.
URL:https://ceemet.org/event/social-security-coordination-the-a-z-of-a1-webinar/
CATEGORIES:Stakeholder meeting_event
END:VEVENT
END:VCALENDAR