BEGIN:VCALENDAR
VERSION:2.0
PRODID:-//Ceemet - ECPv6.15.20//NONSGML v1.0//EN
CALSCALE:GREGORIAN
METHOD:PUBLISH
X-WR-CALNAME:Ceemet
X-ORIGINAL-URL:https://ceemet.org
X-WR-CALDESC:Events for Ceemet
REFRESH-INTERVAL;VALUE=DURATION:PT1H
X-Robots-Tag:noindex
X-PUBLISHED-TTL:PT1H
BEGIN:VTIMEZONE
TZID:Europe/Brussels
BEGIN:DAYLIGHT
TZOFFSETFROM:+0100
TZOFFSETTO:+0200
TZNAME:CEST
DTSTART:20220327T010000
END:DAYLIGHT
BEGIN:STANDARD
TZOFFSETFROM:+0200
TZOFFSETTO:+0100
TZNAME:CET
DTSTART:20221030T010000
END:STANDARD
BEGIN:DAYLIGHT
TZOFFSETFROM:+0100
TZOFFSETTO:+0200
TZNAME:CEST
DTSTART:20230326T010000
END:DAYLIGHT
BEGIN:STANDARD
TZOFFSETFROM:+0200
TZOFFSETTO:+0100
TZNAME:CET
DTSTART:20231029T010000
END:STANDARD
BEGIN:DAYLIGHT
TZOFFSETFROM:+0100
TZOFFSETTO:+0200
TZNAME:CEST
DTSTART:20240331T010000
END:DAYLIGHT
BEGIN:STANDARD
TZOFFSETFROM:+0200
TZOFFSETTO:+0100
TZNAME:CET
DTSTART:20241027T010000
END:STANDARD
END:VTIMEZONE
BEGIN:VEVENT
DTSTART;VALUE=DATE:20230629
DTEND;VALUE=DATE:20230630
DTSTAMP:20260421T183615
CREATED:20230628T220000Z
LAST-MODIFIED:20231220T075411Z
UID:10000017-1687996800-1688083199@ceemet.org
SUMMARY:95th Board of Directors - London
DESCRIPTION:
URL:https://ceemet.org/event/95th-board-of-directors-london/
CATEGORIES:General Assembly
END:VEVENT
BEGIN:VEVENT
DTSTART;VALUE=DATE:20230629
DTEND;VALUE=DATE:20230701
DTSTAMP:20260421T183615
CREATED:20230628T220000Z
LAST-MODIFIED:20231220T075409Z
UID:10000016-1687996800-1688169599@ceemet.org
SUMMARY:41st General Assembly in London
DESCRIPTION:
URL:https://ceemet.org/event/41st-general-assembly-in-london/
CATEGORIES:General Assembly
END:VEVENT
END:VCALENDAR