BEGIN:VCALENDAR
VERSION:2.0
PRODID:-//Ceemet - ECPv6.15.20//NONSGML v1.0//EN
CALSCALE:GREGORIAN
METHOD:PUBLISH
X-WR-CALNAME:Ceemet
X-ORIGINAL-URL:https://ceemet.org
X-WR-CALDESC:Events for Ceemet
REFRESH-INTERVAL;VALUE=DURATION:PT1H
X-Robots-Tag:noindex
X-PUBLISHED-TTL:PT1H
BEGIN:VTIMEZONE
TZID:Europe/Brussels
BEGIN:DAYLIGHT
TZOFFSETFROM:+0100
TZOFFSETTO:+0200
TZNAME:CEST
DTSTART:20210328T010000
END:DAYLIGHT
BEGIN:STANDARD
TZOFFSETFROM:+0200
TZOFFSETTO:+0100
TZNAME:CET
DTSTART:20211031T010000
END:STANDARD
BEGIN:DAYLIGHT
TZOFFSETFROM:+0100
TZOFFSETTO:+0200
TZNAME:CEST
DTSTART:20220327T010000
END:DAYLIGHT
BEGIN:STANDARD
TZOFFSETFROM:+0200
TZOFFSETTO:+0100
TZNAME:CET
DTSTART:20221030T010000
END:STANDARD
BEGIN:DAYLIGHT
TZOFFSETFROM:+0100
TZOFFSETTO:+0200
TZNAME:CEST
DTSTART:20230326T010000
END:DAYLIGHT
BEGIN:STANDARD
TZOFFSETFROM:+0200
TZOFFSETTO:+0100
TZNAME:CET
DTSTART:20231029T010000
END:STANDARD
END:VTIMEZONE
BEGIN:VEVENT
DTSTART;VALUE=DATE:20221116
DTEND;VALUE=DATE:20221117
DTSTAMP:20260422T042152
CREATED:20221115T230000Z
LAST-MODIFIED:20231220T075519Z
UID:10000037-1668556800-1668643199@ceemet.org
SUMMARY:ETE Committee meeting
DESCRIPTION:The meeting will be organised in Brussels (Ceemet premises – room Miro). \nThe meeting will be held from 09:00-11:30 and from 15:00-16:00 hours.
URL:https://ceemet.org/event/ete-committee-meeting/
CATEGORIES:Committee meeting
END:VEVENT
BEGIN:VEVENT
DTSTART;VALUE=DATE:20221123
DTEND;VALUE=DATE:20221124
DTSTAMP:20260422T042152
CREATED:20221122T230000Z
LAST-MODIFIED:20231220T075518Z
UID:10000036-1669161600-1669247999@ceemet.org
SUMMARY:IER Committe meeting
DESCRIPTION:The meeting will take place in Brussels (Ceemet offices – Room MIRO)
URL:https://ceemet.org/event/ier-committe-meeting/
CATEGORIES:Committee meeting
END:VEVENT
BEGIN:VEVENT
DTSTART;VALUE=DATE:20221124
DTEND;VALUE=DATE:20221125
DTSTAMP:20260422T042152
CREATED:20221123T230000Z
LAST-MODIFIED:20231220T075516Z
UID:10000035-1669248000-1669334399@ceemet.org
SUMMARY:Social Dialogue Plenary Meeting
DESCRIPTION:The meeting will take place in The Hotel\, 38 boulevard de Waterloo 1000 Brussels from 08:30-15:30.
URL:https://ceemet.org/event/social-dialogue-plenary-meeting/
CATEGORIES:Committee meeting
END:VEVENT
BEGIN:VEVENT
DTSTART;VALUE=DATE:20221129
DTEND;VALUE=DATE:20221130
DTSTAMP:20260422T042152
CREATED:20221128T230000Z
LAST-MODIFIED:20231220T075514Z
UID:10000034-1669680000-1669766399@ceemet.org
SUMMARY:EU Committee meeting
DESCRIPTION:The meeting will be held in Bratislava
URL:https://ceemet.org/event/eu-committee-meeting/
CATEGORIES:Committee meeting
END:VEVENT
END:VCALENDAR