BEGIN:VCALENDAR
VERSION:2.0
PRODID:-//Ceemet - ECPv6.15.20//NONSGML v1.0//EN
CALSCALE:GREGORIAN
METHOD:PUBLISH
X-ORIGINAL-URL:https://ceemet.org
X-WR-CALDESC:Events for Ceemet
REFRESH-INTERVAL;VALUE=DURATION:PT1H
X-Robots-Tag:noindex
X-PUBLISHED-TTL:PT1H
BEGIN:VTIMEZONE
TZID:Europe/Brussels
BEGIN:DAYLIGHT
TZOFFSETFROM:+0100
TZOFFSETTO:+0200
TZNAME:CEST
DTSTART:20190331T010000
END:DAYLIGHT
BEGIN:STANDARD
TZOFFSETFROM:+0200
TZOFFSETTO:+0100
TZNAME:CET
DTSTART:20191027T010000
END:STANDARD
BEGIN:DAYLIGHT
TZOFFSETFROM:+0100
TZOFFSETTO:+0200
TZNAME:CEST
DTSTART:20200329T010000
END:DAYLIGHT
BEGIN:STANDARD
TZOFFSETFROM:+0200
TZOFFSETTO:+0100
TZNAME:CET
DTSTART:20201025T010000
END:STANDARD
BEGIN:DAYLIGHT
TZOFFSETFROM:+0100
TZOFFSETTO:+0200
TZNAME:CEST
DTSTART:20210328T010000
END:DAYLIGHT
BEGIN:STANDARD
TZOFFSETFROM:+0200
TZOFFSETTO:+0100
TZNAME:CET
DTSTART:20211031T010000
END:STANDARD
BEGIN:DAYLIGHT
TZOFFSETFROM:+0100
TZOFFSETTO:+0200
TZNAME:CEST
DTSTART:20220327T010000
END:DAYLIGHT
BEGIN:STANDARD
TZOFFSETFROM:+0200
TZOFFSETTO:+0100
TZNAME:CET
DTSTART:20221030T010000
END:STANDARD
BEGIN:DAYLIGHT
TZOFFSETFROM:+0100
TZOFFSETTO:+0200
TZNAME:CEST
DTSTART:20230326T010000
END:DAYLIGHT
BEGIN:STANDARD
TZOFFSETFROM:+0200
TZOFFSETTO:+0100
TZNAME:CET
DTSTART:20231029T010000
END:STANDARD
END:VTIMEZONE
BEGIN:VEVENT
DTSTART;VALUE=DATE:20220610
DTEND;VALUE=DATE:20220611
DTSTAMP:20260425T191008
CREATED:20220609T220000Z
LAST-MODIFIED:20231220T075535Z
UID:10000047-1654819200-1654905599@ceemet.org
SUMMARY:Social Dialogue Education and Training Working Group
DESCRIPTION:All day- Brussels/hybrid
URL:https://ceemet.org/event/social-dialogue-education-and-training-working-group/
CATEGORIES:Working Group meeting
END:VEVENT
BEGIN:VEVENT
DTSTART;VALUE=DATE:20211117
DTEND;VALUE=DATE:20211118
DTSTAMP:20260425T191008
CREATED:20211116T230000Z
LAST-MODIFIED:20231220T075649Z
UID:10000069-1637107200-1637193599@ceemet.org
SUMMARY:LobbyNet and TCWG meeting
DESCRIPTION:14:00 – 16:30\nTEAMS
URL:https://ceemet.org/event/lobbynet-and-tcwg-meeting/
CATEGORIES:Working Group meeting
END:VEVENT
BEGIN:VEVENT
DTSTART;VALUE=DATE:20211029
DTEND;VALUE=DATE:20211030
DTSTAMP:20260425T191008
CREATED:20211028T220000Z
LAST-MODIFIED:20231220T075651Z
UID:10000071-1635465600-1635551999@ceemet.org
SUMMARY:Artificial Intelligence WG meeting
DESCRIPTION:
URL:https://ceemet.org/event/artificial-intelligence-wg-meeting/
CATEGORIES:Working Group meeting
END:VEVENT
BEGIN:VEVENT
DTSTART;VALUE=DATE:20211019
DTEND;VALUE=DATE:20211020
DTSTAMP:20260425T191008
CREATED:20211018T220000Z
LAST-MODIFIED:20231220T075702Z
UID:10000078-1634601600-1634687999@ceemet.org
SUMMARY:CEG meeting
DESCRIPTION:
URL:https://ceemet.org/event/ceg-meeting/
CATEGORIES:Working Group meeting
END:VEVENT
BEGIN:VEVENT
DTSTART;VALUE=DATE:20210927
DTEND;VALUE=DATE:20210928
DTSTAMP:20260425T191008
CREATED:20210926T220000Z
LAST-MODIFIED:20231220T075712Z
UID:10000085-1632700800-1632787199@ceemet.org
SUMMARY:SD E&T
DESCRIPTION:14:30 – 18:00 (TBC)\nVirtual
URL:https://ceemet.org/event/sd-et-2/
CATEGORIES:Working Group meeting
END:VEVENT
BEGIN:VEVENT
DTSTART;VALUE=DATE:20210916
DTEND;VALUE=DATE:20210917
DTSTAMP:20260425T191008
CREATED:20210915T220000Z
LAST-MODIFIED:20231220T075739Z
UID:10000087-1631750400-1631836799@ceemet.org
SUMMARY:LobbyNet/TCWG
DESCRIPTION:14:00 – 16:30\nTEAMS
URL:https://ceemet.org/event/lobbynet-tcwg/
CATEGORIES:Working Group meeting
END:VEVENT
BEGIN:VEVENT
DTSTART;VALUE=DATE:20210712
DTEND;VALUE=DATE:20210713
DTSTAMP:20260425T191008
CREATED:20210711T220000Z
LAST-MODIFIED:20231220T075743Z
UID:10000089-1626048000-1626134399@ceemet.org
SUMMARY:LobbyNet/FRWG
DESCRIPTION:14:00 – 16:30
URL:https://ceemet.org/event/lobbynet-frwg-2/
CATEGORIES:Working Group meeting
END:VEVENT
BEGIN:VEVENT
DTSTART;VALUE=DATE:20210607
DTEND;VALUE=DATE:20210608
DTSTAMP:20260425T191008
CREATED:20210606T220000Z
LAST-MODIFIED:20231220T075755Z
UID:10000098-1623024000-1623110399@ceemet.org
SUMMARY:SD E&T
DESCRIPTION:10:00 – 11:00
URL:https://ceemet.org/event/sd-et/
CATEGORIES:Working Group meeting
END:VEVENT
BEGIN:VEVENT
DTSTART;VALUE=DATE:20210527
DTEND;VALUE=DATE:20210528
DTSTAMP:20260425T191008
CREATED:20210526T220000Z
LAST-MODIFIED:20231220T075758Z
UID:10000100-1622073600-1622159999@ceemet.org
SUMMARY:LobbyNet/FRWG
DESCRIPTION:14:00 – 16:30
URL:https://ceemet.org/event/lobbynet-frwg/
CATEGORIES:Working Group meeting
END:VEVENT
BEGIN:VEVENT
DTSTART;VALUE=DATE:20210308
DTEND;VALUE=DATE:20210309
DTSTAMP:20260425T191008
CREATED:20210307T230000Z
LAST-MODIFIED:20231220T075906Z
UID:10000119-1615161600-1615247999@ceemet.org
SUMMARY:SD C&E
DESCRIPTION:08:00 – 16:00
URL:https://ceemet.org/event/sd-ce/
CATEGORIES:Working Group meeting
END:VEVENT
BEGIN:VEVENT
DTSTART;VALUE=DATE:20210215
DTEND;VALUE=DATE:20210216
DTSTAMP:20260425T191008
CREATED:20210214T230000Z
LAST-MODIFIED:20231220T075913Z
UID:10000123-1613347200-1613433599@ceemet.org
SUMMARY:LobbyNet & EU - UK Future Relationship meeting
DESCRIPTION:14:00 – 16:30
URL:https://ceemet.org/event/lobbynet-eu-uk-future-relationship-meeting-3/
CATEGORIES:Working Group meeting
END:VEVENT
BEGIN:VEVENT
DTSTART;VALUE=DATE:20210121
DTEND;VALUE=DATE:20210122
DTSTAMP:20260425T191008
CREATED:20210120T230000Z
LAST-MODIFIED:20231220T075924Z
UID:10000128-1611187200-1611273599@ceemet.org
SUMMARY:LobbyNet & EU - UK Future Relationship meeting
DESCRIPTION:10:00 – 12:30 \nDear members\, \nPlease find attached the Working Papers for the next LobbyNet meeting. The meeting will take place via Microsoft Teams on Thursday 21 January 2021 from 10:00 to 11:30. A separate invitation link will be sent to you to connect to the meeting. \nThe following documents are attached: \n\nThe agenda;\nThe list of participants;\nMinutes from our previous meeting.\n\nAn EU-UK Future Relationship Working Group meeting will be organised after the LobbyNet meeting from 11:30 to 12:30.
URL:https://ceemet.org/event/lobbynet-eu-uk-future-relationship-meeting-2/
CATEGORIES:Working Group meeting
END:VEVENT
BEGIN:VEVENT
DTSTART;VALUE=DATE:20201214
DTEND;VALUE=DATE:20201215
DTSTAMP:20260425T191008
CREATED:20201213T230000Z
LAST-MODIFIED:20231220T075926Z
UID:10000130-1607904000-1607990399@ceemet.org
SUMMARY:LobbyNet & EU - UK Future Relationship meeting
DESCRIPTION:14:00 – 16:30 \nDear members\, \nFollowing the outcome of the doodle poll\, please note that the LobbyNet (14:00 – 15:30) and FRWG (15:00 – 15630) meetings will take place today. \nThe practical details with regard to the meetings and the working papers will be sent to you closer to the meeting.
URL:https://ceemet.org/event/lobbynet-eu-uk-future-relationship-meeting/
CATEGORIES:Working Group meeting
END:VEVENT
BEGIN:VEVENT
DTSTART;VALUE=DATE:20201105
DTEND;VALUE=DATE:20201106
DTSTAMP:20260425T191008
CREATED:20201104T230000Z
LAST-MODIFIED:20231220T080013Z
UID:10000147-1604534400-1604620799@ceemet.org
SUMMARY:LobbyNet meeting
DESCRIPTION:14:00 – 15:00 \nDear members\, \nPlease find below the Working Papers for the next LobbyNet meeting. \nThe meeting will take place via Microsoft Teams on Thursday\, 5 November 2020 from 14:00 to 15:00.  \nA separate invitation link will be posted here so you can connect to the meeting
URL:https://ceemet.org/event/lobbynet-meeting/
CATEGORIES:Working Group meeting
END:VEVENT
BEGIN:VEVENT
DTSTART;VALUE=DATE:20201105
DTEND;VALUE=DATE:20201106
DTSTAMP:20260425T191009
CREATED:20201104T230000Z
LAST-MODIFIED:20231220T080014Z
UID:10000148-1604534400-1604620799@ceemet.org
SUMMARY:EU - UK Future Relationship meeting
DESCRIPTION:15:00 – 16:00 \nDear members\, Please find attached the Working Papers for the next EU-UK Future Relationship Working Group. The meeting will take place via Microsoft Teams on Thursday\, 5 November 2020 from 15:00 to 16:00. \nA separate invite will be sent to you to connect to the meeting. \nThe following documents are attached: \n\nThe agenda;\nThe list of participants;\nMinutes from our previous meeting.\n\nPlease find the Ceemet and Make UK Statement on the EU-UK Future Relationship in circ 271/20.
URL:https://ceemet.org/event/eu-uk-future-relationship-meeting/
CATEGORIES:Working Group meeting
END:VEVENT
END:VCALENDAR